BEGIN:VCALENDAR
METHOD:PUBLISH
VERSION:2.0
PRODID:-//IGD//IGD//IT
BEGIN:VEVENT
SUMMARY:Virtual roadshow with Intesa Sanpaolo-IMI
UID:34023
DTSTART:20210316T230000Z
DTEND:20210316T230000Z
LAST-MODIFIED:20210316T000000Z
LOCATION:
END:VEVENT
END:VCALENDAR