BEGIN:VCALENDAR
METHOD:PUBLISH
VERSION:2.0
PRODID:-//IGD//IGD//IT
BEGIN:VEVENT
SUMMARY:Virtual STAR Conference 2021 – Spring Edition
UID:32961
DTSTART:20210324T230000Z
DTEND:20210324T230000Z
LAST-MODIFIED:20210217T000000Z
LOCATION:
END:VEVENT
END:VCALENDAR