BEGIN:VCALENDAR
METHOD:PUBLISH
VERSION:2.0
PRODID:-//IGD//IGD//IT
BEGIN:VEVENT
SUMMARY:Conference call to present the results as at 31 December 2020 &#8211; dial-in details
UID:32917
DTSTART:20210224T230000Z
DTEND:20210224T230000Z
LAST-MODIFIED:20210226T000000Z
LOCATION:
END:VEVENT
END:VCALENDAR