BEGIN:VCALENDAR
METHOD:PUBLISH
VERSION:2.0
PRODID:-//IGD//IGD//IT
BEGIN:VEVENT
SUMMARY:Blocking period October/November 2021
UID:32731
DTSTART:20211004T220000Z
DTEND:20211004T220000Z
LAST-MODIFIED:20201218T000000Z
LOCATION:
END:VEVENT
BEGIN:VEVENT
SUMMARY:Blocking period October/November 2021
UID:32731
DTSTART:20211005T220000Z
DTEND:20211005T220000Z
LAST-MODIFIED:20201218T000000Z
LOCATION:
END:VEVENT
BEGIN:VEVENT
SUMMARY:Blocking period October/November 2021
UID:32731
DTSTART:20211006T220000Z
DTEND:20211006T220000Z
LAST-MODIFIED:20201218T000000Z
LOCATION:
END:VEVENT
BEGIN:VEVENT
SUMMARY:Blocking period October/November 2021
UID:32731
DTSTART:20211007T220000Z
DTEND:20211007T220000Z
LAST-MODIFIED:20201218T000000Z
LOCATION:
END:VEVENT
BEGIN:VEVENT
SUMMARY:Blocking period October/November 2021
UID:32731
DTSTART:20211008T220000Z
DTEND:20211008T220000Z
LAST-MODIFIED:20201218T000000Z
LOCATION:
END:VEVENT
BEGIN:VEVENT
SUMMARY:Blocking period October/November 2021
UID:32731
DTSTART:20211009T220000Z
DTEND:20211009T220000Z
LAST-MODIFIED:20201218T000000Z
LOCATION:
END:VEVENT
BEGIN:VEVENT
SUMMARY:Blocking period October/November 2021
UID:32731
DTSTART:20211010T220000Z
DTEND:20211010T220000Z
LAST-MODIFIED:20201218T000000Z
LOCATION:
END:VEVENT
BEGIN:VEVENT
SUMMARY:Blocking period October/November 2021
UID:32731
DTSTART:20211011T220000Z
DTEND:20211011T220000Z
LAST-MODIFIED:20201218T000000Z
LOCATION:
END:VEVENT
BEGIN:VEVENT
SUMMARY:Blocking period October/November 2021
UID:32731
DTSTART:20211012T220000Z
DTEND:20211012T220000Z
LAST-MODIFIED:20201218T000000Z
LOCATION:
END:VEVENT
BEGIN:VEVENT
SUMMARY:Blocking period October/November 2021
UID:32731
DTSTART:20211013T220000Z
DTEND:20211013T220000Z
LAST-MODIFIED:20201218T000000Z
LOCATION:
END:VEVENT
BEGIN:VEVENT
SUMMARY:Blocking period October/November 2021
UID:32731
DTSTART:20211014T220000Z
DTEND:20211014T220000Z
LAST-MODIFIED:20201218T000000Z
LOCATION:
END:VEVENT
BEGIN:VEVENT
SUMMARY:Blocking period October/November 2021
UID:32731
DTSTART:20211015T220000Z
DTEND:20211015T220000Z
LAST-MODIFIED:20201218T000000Z
LOCATION:
END:VEVENT
BEGIN:VEVENT
SUMMARY:Blocking period October/November 2021
UID:32731
DTSTART:20211016T220000Z
DTEND:20211016T220000Z
LAST-MODIFIED:20201218T000000Z
LOCATION:
END:VEVENT
BEGIN:VEVENT
SUMMARY:Blocking period October/November 2021
UID:32731
DTSTART:20211017T220000Z
DTEND:20211017T220000Z
LAST-MODIFIED:20201218T000000Z
LOCATION:
END:VEVENT
BEGIN:VEVENT
SUMMARY:Blocking period October/November 2021
UID:32731
DTSTART:20211018T220000Z
DTEND:20211018T220000Z
LAST-MODIFIED:20201218T000000Z
LOCATION:
END:VEVENT
BEGIN:VEVENT
SUMMARY:Blocking period October/November 2021
UID:32731
DTSTART:20211019T220000Z
DTEND:20211019T220000Z
LAST-MODIFIED:20201218T000000Z
LOCATION:
END:VEVENT
BEGIN:VEVENT
SUMMARY:Blocking period October/November 2021
UID:32731
DTSTART:20211020T220000Z
DTEND:20211020T220000Z
LAST-MODIFIED:20201218T000000Z
LOCATION:
END:VEVENT
BEGIN:VEVENT
SUMMARY:Blocking period October/November 2021
UID:32731
DTSTART:20211021T220000Z
DTEND:20211021T220000Z
LAST-MODIFIED:20201218T000000Z
LOCATION:
END:VEVENT
BEGIN:VEVENT
SUMMARY:Blocking period October/November 2021
UID:32731
DTSTART:20211022T220000Z
DTEND:20211022T220000Z
LAST-MODIFIED:20201218T000000Z
LOCATION:
END:VEVENT
BEGIN:VEVENT
SUMMARY:Blocking period October/November 2021
UID:32731
DTSTART:20211023T220000Z
DTEND:20211023T220000Z
LAST-MODIFIED:20201218T000000Z
LOCATION:
END:VEVENT
BEGIN:VEVENT
SUMMARY:Blocking period October/November 2021
UID:32731
DTSTART:20211024T220000Z
DTEND:20211024T220000Z
LAST-MODIFIED:20201218T000000Z
LOCATION:
END:VEVENT
BEGIN:VEVENT
SUMMARY:Blocking period October/November 2021
UID:32731
DTSTART:20211025T220000Z
DTEND:20211025T220000Z
LAST-MODIFIED:20201218T000000Z
LOCATION:
END:VEVENT
BEGIN:VEVENT
SUMMARY:Blocking period October/November 2021
UID:32731
DTSTART:20211026T220000Z
DTEND:20211026T220000Z
LAST-MODIFIED:20201218T000000Z
LOCATION:
END:VEVENT
BEGIN:VEVENT
SUMMARY:Blocking period October/November 2021
UID:32731
DTSTART:20211027T220000Z
DTEND:20211027T220000Z
LAST-MODIFIED:20201218T000000Z
LOCATION:
END:VEVENT
BEGIN:VEVENT
SUMMARY:Blocking period October/November 2021
UID:32731
DTSTART:20211028T220000Z
DTEND:20211028T220000Z
LAST-MODIFIED:20201218T000000Z
LOCATION:
END:VEVENT
BEGIN:VEVENT
SUMMARY:Blocking period October/November 2021
UID:32731
DTSTART:20211029T220000Z
DTEND:20211029T220000Z
LAST-MODIFIED:20201218T000000Z
LOCATION:
END:VEVENT
BEGIN:VEVENT
SUMMARY:Blocking period October/November 2021
UID:32731
DTSTART:20211030T220000Z
DTEND:20211030T220000Z
LAST-MODIFIED:20201218T000000Z
LOCATION:
END:VEVENT
BEGIN:VEVENT
SUMMARY:Blocking period October/November 2021
UID:32731
DTSTART:20211031T230000Z
DTEND:20211031T230000Z
LAST-MODIFIED:20201218T000000Z
LOCATION:
END:VEVENT
BEGIN:VEVENT
SUMMARY:Blocking period October/November 2021
UID:32731
DTSTART:20211101T230000Z
DTEND:20211101T230000Z
LAST-MODIFIED:20201218T000000Z
LOCATION:
END:VEVENT
BEGIN:VEVENT
SUMMARY:Blocking period October/November 2021
UID:32731
DTSTART:20211102T230000Z
DTEND:20211102T230000Z
LAST-MODIFIED:20201218T000000Z
LOCATION:
END:VEVENT
END:VCALENDAR