BEGIN:VCALENDAR
METHOD:PUBLISH
VERSION:2.0
PRODID:-//IGD//IGD//IT
BEGIN:VEVENT
SUMMARY:Blocking period July/August 2021
UID:32727
DTSTART:20210705T220000Z
DTEND:20210705T220000Z
LAST-MODIFIED:20201218T000000Z
LOCATION:
END:VEVENT
BEGIN:VEVENT
SUMMARY:Blocking period July/August 2021
UID:32727
DTSTART:20210706T220000Z
DTEND:20210706T220000Z
LAST-MODIFIED:20201218T000000Z
LOCATION:
END:VEVENT
BEGIN:VEVENT
SUMMARY:Blocking period July/August 2021
UID:32727
DTSTART:20210707T220000Z
DTEND:20210707T220000Z
LAST-MODIFIED:20201218T000000Z
LOCATION:
END:VEVENT
BEGIN:VEVENT
SUMMARY:Blocking period July/August 2021
UID:32727
DTSTART:20210708T220000Z
DTEND:20210708T220000Z
LAST-MODIFIED:20201218T000000Z
LOCATION:
END:VEVENT
BEGIN:VEVENT
SUMMARY:Blocking period July/August 2021
UID:32727
DTSTART:20210709T220000Z
DTEND:20210709T220000Z
LAST-MODIFIED:20201218T000000Z
LOCATION:
END:VEVENT
BEGIN:VEVENT
SUMMARY:Blocking period July/August 2021
UID:32727
DTSTART:20210710T220000Z
DTEND:20210710T220000Z
LAST-MODIFIED:20201218T000000Z
LOCATION:
END:VEVENT
BEGIN:VEVENT
SUMMARY:Blocking period July/August 2021
UID:32727
DTSTART:20210711T220000Z
DTEND:20210711T220000Z
LAST-MODIFIED:20201218T000000Z
LOCATION:
END:VEVENT
BEGIN:VEVENT
SUMMARY:Blocking period July/August 2021
UID:32727
DTSTART:20210712T220000Z
DTEND:20210712T220000Z
LAST-MODIFIED:20201218T000000Z
LOCATION:
END:VEVENT
BEGIN:VEVENT
SUMMARY:Blocking period July/August 2021
UID:32727
DTSTART:20210713T220000Z
DTEND:20210713T220000Z
LAST-MODIFIED:20201218T000000Z
LOCATION:
END:VEVENT
BEGIN:VEVENT
SUMMARY:Blocking period July/August 2021
UID:32727
DTSTART:20210714T220000Z
DTEND:20210714T220000Z
LAST-MODIFIED:20201218T000000Z
LOCATION:
END:VEVENT
BEGIN:VEVENT
SUMMARY:Blocking period July/August 2021
UID:32727
DTSTART:20210715T220000Z
DTEND:20210715T220000Z
LAST-MODIFIED:20201218T000000Z
LOCATION:
END:VEVENT
BEGIN:VEVENT
SUMMARY:Blocking period July/August 2021
UID:32727
DTSTART:20210716T220000Z
DTEND:20210716T220000Z
LAST-MODIFIED:20201218T000000Z
LOCATION:
END:VEVENT
BEGIN:VEVENT
SUMMARY:Blocking period July/August 2021
UID:32727
DTSTART:20210717T220000Z
DTEND:20210717T220000Z
LAST-MODIFIED:20201218T000000Z
LOCATION:
END:VEVENT
BEGIN:VEVENT
SUMMARY:Blocking period July/August 2021
UID:32727
DTSTART:20210718T220000Z
DTEND:20210718T220000Z
LAST-MODIFIED:20201218T000000Z
LOCATION:
END:VEVENT
BEGIN:VEVENT
SUMMARY:Blocking period July/August 2021
UID:32727
DTSTART:20210719T220000Z
DTEND:20210719T220000Z
LAST-MODIFIED:20201218T000000Z
LOCATION:
END:VEVENT
BEGIN:VEVENT
SUMMARY:Blocking period July/August 2021
UID:32727
DTSTART:20210720T220000Z
DTEND:20210720T220000Z
LAST-MODIFIED:20201218T000000Z
LOCATION:
END:VEVENT
BEGIN:VEVENT
SUMMARY:Blocking period July/August 2021
UID:32727
DTSTART:20210721T220000Z
DTEND:20210721T220000Z
LAST-MODIFIED:20201218T000000Z
LOCATION:
END:VEVENT
BEGIN:VEVENT
SUMMARY:Blocking period July/August 2021
UID:32727
DTSTART:20210722T220000Z
DTEND:20210722T220000Z
LAST-MODIFIED:20201218T000000Z
LOCATION:
END:VEVENT
BEGIN:VEVENT
SUMMARY:Blocking period July/August 2021
UID:32727
DTSTART:20210723T220000Z
DTEND:20210723T220000Z
LAST-MODIFIED:20201218T000000Z
LOCATION:
END:VEVENT
BEGIN:VEVENT
SUMMARY:Blocking period July/August 2021
UID:32727
DTSTART:20210724T220000Z
DTEND:20210724T220000Z
LAST-MODIFIED:20201218T000000Z
LOCATION:
END:VEVENT
BEGIN:VEVENT
SUMMARY:Blocking period July/August 2021
UID:32727
DTSTART:20210725T220000Z
DTEND:20210725T220000Z
LAST-MODIFIED:20201218T000000Z
LOCATION:
END:VEVENT
BEGIN:VEVENT
SUMMARY:Blocking period July/August 2021
UID:32727
DTSTART:20210726T220000Z
DTEND:20210726T220000Z
LAST-MODIFIED:20201218T000000Z
LOCATION:
END:VEVENT
BEGIN:VEVENT
SUMMARY:Blocking period July/August 2021
UID:32727
DTSTART:20210727T220000Z
DTEND:20210727T220000Z
LAST-MODIFIED:20201218T000000Z
LOCATION:
END:VEVENT
BEGIN:VEVENT
SUMMARY:Blocking period July/August 2021
UID:32727
DTSTART:20210728T220000Z
DTEND:20210728T220000Z
LAST-MODIFIED:20201218T000000Z
LOCATION:
END:VEVENT
BEGIN:VEVENT
SUMMARY:Blocking period July/August 2021
UID:32727
DTSTART:20210729T220000Z
DTEND:20210729T220000Z
LAST-MODIFIED:20201218T000000Z
LOCATION:
END:VEVENT
BEGIN:VEVENT
SUMMARY:Blocking period July/August 2021
UID:32727
DTSTART:20210730T220000Z
DTEND:20210730T220000Z
LAST-MODIFIED:20201218T000000Z
LOCATION:
END:VEVENT
BEGIN:VEVENT
SUMMARY:Blocking period July/August 2021
UID:32727
DTSTART:20210731T220000Z
DTEND:20210731T220000Z
LAST-MODIFIED:20201218T000000Z
LOCATION:
END:VEVENT
BEGIN:VEVENT
SUMMARY:Blocking period July/August 2021
UID:32727
DTSTART:20210801T220000Z
DTEND:20210801T220000Z
LAST-MODIFIED:20201218T000000Z
LOCATION:
END:VEVENT
BEGIN:VEVENT
SUMMARY:Blocking period July/August 2021
UID:32727
DTSTART:20210802T220000Z
DTEND:20210802T220000Z
LAST-MODIFIED:20201218T000000Z
LOCATION:
END:VEVENT
BEGIN:VEVENT
SUMMARY:Blocking period July/August 2021
UID:32727
DTSTART:20210803T220000Z
DTEND:20210803T220000Z
LAST-MODIFIED:20201218T000000Z
LOCATION:
END:VEVENT
END:VCALENDAR