BEGIN:VCALENDAR
METHOD:PUBLISH
VERSION:2.0
PRODID:-//IGD//IGD//IT
BEGIN:VEVENT
SUMMARY:Blocking period April/May 2021
UID:32723
DTSTART:20210405T220000Z
DTEND:20210405T220000Z
LAST-MODIFIED:20201218T000000Z
LOCATION:
END:VEVENT
BEGIN:VEVENT
SUMMARY:Blocking period April/May 2021
UID:32723
DTSTART:20210406T220000Z
DTEND:20210406T220000Z
LAST-MODIFIED:20201218T000000Z
LOCATION:
END:VEVENT
BEGIN:VEVENT
SUMMARY:Blocking period April/May 2021
UID:32723
DTSTART:20210407T220000Z
DTEND:20210407T220000Z
LAST-MODIFIED:20201218T000000Z
LOCATION:
END:VEVENT
BEGIN:VEVENT
SUMMARY:Blocking period April/May 2021
UID:32723
DTSTART:20210408T220000Z
DTEND:20210408T220000Z
LAST-MODIFIED:20201218T000000Z
LOCATION:
END:VEVENT
BEGIN:VEVENT
SUMMARY:Blocking period April/May 2021
UID:32723
DTSTART:20210409T220000Z
DTEND:20210409T220000Z
LAST-MODIFIED:20201218T000000Z
LOCATION:
END:VEVENT
BEGIN:VEVENT
SUMMARY:Blocking period April/May 2021
UID:32723
DTSTART:20210410T220000Z
DTEND:20210410T220000Z
LAST-MODIFIED:20201218T000000Z
LOCATION:
END:VEVENT
BEGIN:VEVENT
SUMMARY:Blocking period April/May 2021
UID:32723
DTSTART:20210411T220000Z
DTEND:20210411T220000Z
LAST-MODIFIED:20201218T000000Z
LOCATION:
END:VEVENT
BEGIN:VEVENT
SUMMARY:Blocking period April/May 2021
UID:32723
DTSTART:20210412T220000Z
DTEND:20210412T220000Z
LAST-MODIFIED:20201218T000000Z
LOCATION:
END:VEVENT
BEGIN:VEVENT
SUMMARY:Blocking period April/May 2021
UID:32723
DTSTART:20210413T220000Z
DTEND:20210413T220000Z
LAST-MODIFIED:20201218T000000Z
LOCATION:
END:VEVENT
BEGIN:VEVENT
SUMMARY:Blocking period April/May 2021
UID:32723
DTSTART:20210414T220000Z
DTEND:20210414T220000Z
LAST-MODIFIED:20201218T000000Z
LOCATION:
END:VEVENT
BEGIN:VEVENT
SUMMARY:Blocking period April/May 2021
UID:32723
DTSTART:20210415T220000Z
DTEND:20210415T220000Z
LAST-MODIFIED:20201218T000000Z
LOCATION:
END:VEVENT
BEGIN:VEVENT
SUMMARY:Blocking period April/May 2021
UID:32723
DTSTART:20210416T220000Z
DTEND:20210416T220000Z
LAST-MODIFIED:20201218T000000Z
LOCATION:
END:VEVENT
BEGIN:VEVENT
SUMMARY:Blocking period April/May 2021
UID:32723
DTSTART:20210417T220000Z
DTEND:20210417T220000Z
LAST-MODIFIED:20201218T000000Z
LOCATION:
END:VEVENT
BEGIN:VEVENT
SUMMARY:Blocking period April/May 2021
UID:32723
DTSTART:20210418T220000Z
DTEND:20210418T220000Z
LAST-MODIFIED:20201218T000000Z
LOCATION:
END:VEVENT
BEGIN:VEVENT
SUMMARY:Blocking period April/May 2021
UID:32723
DTSTART:20210419T220000Z
DTEND:20210419T220000Z
LAST-MODIFIED:20201218T000000Z
LOCATION:
END:VEVENT
BEGIN:VEVENT
SUMMARY:Blocking period April/May 2021
UID:32723
DTSTART:20210420T220000Z
DTEND:20210420T220000Z
LAST-MODIFIED:20201218T000000Z
LOCATION:
END:VEVENT
BEGIN:VEVENT
SUMMARY:Blocking period April/May 2021
UID:32723
DTSTART:20210421T220000Z
DTEND:20210421T220000Z
LAST-MODIFIED:20201218T000000Z
LOCATION:
END:VEVENT
BEGIN:VEVENT
SUMMARY:Blocking period April/May 2021
UID:32723
DTSTART:20210422T220000Z
DTEND:20210422T220000Z
LAST-MODIFIED:20201218T000000Z
LOCATION:
END:VEVENT
BEGIN:VEVENT
SUMMARY:Blocking period April/May 2021
UID:32723
DTSTART:20210423T220000Z
DTEND:20210423T220000Z
LAST-MODIFIED:20201218T000000Z
LOCATION:
END:VEVENT
BEGIN:VEVENT
SUMMARY:Blocking period April/May 2021
UID:32723
DTSTART:20210424T220000Z
DTEND:20210424T220000Z
LAST-MODIFIED:20201218T000000Z
LOCATION:
END:VEVENT
BEGIN:VEVENT
SUMMARY:Blocking period April/May 2021
UID:32723
DTSTART:20210425T220000Z
DTEND:20210425T220000Z
LAST-MODIFIED:20201218T000000Z
LOCATION:
END:VEVENT
BEGIN:VEVENT
SUMMARY:Blocking period April/May 2021
UID:32723
DTSTART:20210426T220000Z
DTEND:20210426T220000Z
LAST-MODIFIED:20201218T000000Z
LOCATION:
END:VEVENT
BEGIN:VEVENT
SUMMARY:Blocking period April/May 2021
UID:32723
DTSTART:20210427T220000Z
DTEND:20210427T220000Z
LAST-MODIFIED:20201218T000000Z
LOCATION:
END:VEVENT
BEGIN:VEVENT
SUMMARY:Blocking period April/May 2021
UID:32723
DTSTART:20210428T220000Z
DTEND:20210428T220000Z
LAST-MODIFIED:20201218T000000Z
LOCATION:
END:VEVENT
BEGIN:VEVENT
SUMMARY:Blocking period April/May 2021
UID:32723
DTSTART:20210429T220000Z
DTEND:20210429T220000Z
LAST-MODIFIED:20201218T000000Z
LOCATION:
END:VEVENT
BEGIN:VEVENT
SUMMARY:Blocking period April/May 2021
UID:32723
DTSTART:20210430T220000Z
DTEND:20210430T220000Z
LAST-MODIFIED:20201218T000000Z
LOCATION:
END:VEVENT
BEGIN:VEVENT
SUMMARY:Blocking period April/May 2021
UID:32723
DTSTART:20210501T220000Z
DTEND:20210501T220000Z
LAST-MODIFIED:20201218T000000Z
LOCATION:
END:VEVENT
BEGIN:VEVENT
SUMMARY:Blocking period April/May 2021
UID:32723
DTSTART:20210502T220000Z
DTEND:20210502T220000Z
LAST-MODIFIED:20201218T000000Z
LOCATION:
END:VEVENT
BEGIN:VEVENT
SUMMARY:Blocking period April/May 2021
UID:32723
DTSTART:20210503T220000Z
DTEND:20210503T220000Z
LAST-MODIFIED:20201218T000000Z
LOCATION:
END:VEVENT
BEGIN:VEVENT
SUMMARY:Blocking period April/May 2021
UID:32723
DTSTART:20210504T220000Z
DTEND:20210504T220000Z
LAST-MODIFIED:20201218T000000Z
LOCATION:
END:VEVENT
END:VCALENDAR