BEGIN:VCALENDAR
METHOD:PUBLISH
VERSION:2.0
PRODID:-//IGD//IGD//IT
BEGIN:VEVENT
SUMMARY:Blocking period January/February 2021
UID:32719
DTSTART:20210125T230000Z
DTEND:20210125T230000Z
LAST-MODIFIED:20201218T000000Z
LOCATION:
END:VEVENT
BEGIN:VEVENT
SUMMARY:Blocking period January/February 2021
UID:32719
DTSTART:20210126T230000Z
DTEND:20210126T230000Z
LAST-MODIFIED:20201218T000000Z
LOCATION:
END:VEVENT
BEGIN:VEVENT
SUMMARY:Blocking period January/February 2021
UID:32719
DTSTART:20210127T230000Z
DTEND:20210127T230000Z
LAST-MODIFIED:20201218T000000Z
LOCATION:
END:VEVENT
BEGIN:VEVENT
SUMMARY:Blocking period January/February 2021
UID:32719
DTSTART:20210128T230000Z
DTEND:20210128T230000Z
LAST-MODIFIED:20201218T000000Z
LOCATION:
END:VEVENT
BEGIN:VEVENT
SUMMARY:Blocking period January/February 2021
UID:32719
DTSTART:20210129T230000Z
DTEND:20210129T230000Z
LAST-MODIFIED:20201218T000000Z
LOCATION:
END:VEVENT
BEGIN:VEVENT
SUMMARY:Blocking period January/February 2021
UID:32719
DTSTART:20210130T230000Z
DTEND:20210130T230000Z
LAST-MODIFIED:20201218T000000Z
LOCATION:
END:VEVENT
BEGIN:VEVENT
SUMMARY:Blocking period January/February 2021
UID:32719
DTSTART:20210131T230000Z
DTEND:20210131T230000Z
LAST-MODIFIED:20201218T000000Z
LOCATION:
END:VEVENT
BEGIN:VEVENT
SUMMARY:Blocking period January/February 2021
UID:32719
DTSTART:20210201T230000Z
DTEND:20210201T230000Z
LAST-MODIFIED:20201218T000000Z
LOCATION:
END:VEVENT
BEGIN:VEVENT
SUMMARY:Blocking period January/February 2021
UID:32719
DTSTART:20210202T230000Z
DTEND:20210202T230000Z
LAST-MODIFIED:20201218T000000Z
LOCATION:
END:VEVENT
BEGIN:VEVENT
SUMMARY:Blocking period January/February 2021
UID:32719
DTSTART:20210203T230000Z
DTEND:20210203T230000Z
LAST-MODIFIED:20201218T000000Z
LOCATION:
END:VEVENT
BEGIN:VEVENT
SUMMARY:Blocking period January/February 2021
UID:32719
DTSTART:20210204T230000Z
DTEND:20210204T230000Z
LAST-MODIFIED:20201218T000000Z
LOCATION:
END:VEVENT
BEGIN:VEVENT
SUMMARY:Blocking period January/February 2021
UID:32719
DTSTART:20210205T230000Z
DTEND:20210205T230000Z
LAST-MODIFIED:20201218T000000Z
LOCATION:
END:VEVENT
BEGIN:VEVENT
SUMMARY:Blocking period January/February 2021
UID:32719
DTSTART:20210206T230000Z
DTEND:20210206T230000Z
LAST-MODIFIED:20201218T000000Z
LOCATION:
END:VEVENT
BEGIN:VEVENT
SUMMARY:Blocking period January/February 2021
UID:32719
DTSTART:20210207T230000Z
DTEND:20210207T230000Z
LAST-MODIFIED:20201218T000000Z
LOCATION:
END:VEVENT
BEGIN:VEVENT
SUMMARY:Blocking period January/February 2021
UID:32719
DTSTART:20210208T230000Z
DTEND:20210208T230000Z
LAST-MODIFIED:20201218T000000Z
LOCATION:
END:VEVENT
BEGIN:VEVENT
SUMMARY:Blocking period January/February 2021
UID:32719
DTSTART:20210209T230000Z
DTEND:20210209T230000Z
LAST-MODIFIED:20201218T000000Z
LOCATION:
END:VEVENT
BEGIN:VEVENT
SUMMARY:Blocking period January/February 2021
UID:32719
DTSTART:20210210T230000Z
DTEND:20210210T230000Z
LAST-MODIFIED:20201218T000000Z
LOCATION:
END:VEVENT
BEGIN:VEVENT
SUMMARY:Blocking period January/February 2021
UID:32719
DTSTART:20210211T230000Z
DTEND:20210211T230000Z
LAST-MODIFIED:20201218T000000Z
LOCATION:
END:VEVENT
BEGIN:VEVENT
SUMMARY:Blocking period January/February 2021
UID:32719
DTSTART:20210212T230000Z
DTEND:20210212T230000Z
LAST-MODIFIED:20201218T000000Z
LOCATION:
END:VEVENT
BEGIN:VEVENT
SUMMARY:Blocking period January/February 2021
UID:32719
DTSTART:20210213T230000Z
DTEND:20210213T230000Z
LAST-MODIFIED:20201218T000000Z
LOCATION:
END:VEVENT
BEGIN:VEVENT
SUMMARY:Blocking period January/February 2021
UID:32719
DTSTART:20210214T230000Z
DTEND:20210214T230000Z
LAST-MODIFIED:20201218T000000Z
LOCATION:
END:VEVENT
BEGIN:VEVENT
SUMMARY:Blocking period January/February 2021
UID:32719
DTSTART:20210215T230000Z
DTEND:20210215T230000Z
LAST-MODIFIED:20201218T000000Z
LOCATION:
END:VEVENT
BEGIN:VEVENT
SUMMARY:Blocking period January/February 2021
UID:32719
DTSTART:20210216T230000Z
DTEND:20210216T230000Z
LAST-MODIFIED:20201218T000000Z
LOCATION:
END:VEVENT
BEGIN:VEVENT
SUMMARY:Blocking period January/February 2021
UID:32719
DTSTART:20210217T230000Z
DTEND:20210217T230000Z
LAST-MODIFIED:20201218T000000Z
LOCATION:
END:VEVENT
BEGIN:VEVENT
SUMMARY:Blocking period January/February 2021
UID:32719
DTSTART:20210218T230000Z
DTEND:20210218T230000Z
LAST-MODIFIED:20201218T000000Z
LOCATION:
END:VEVENT
BEGIN:VEVENT
SUMMARY:Blocking period January/February 2021
UID:32719
DTSTART:20210219T230000Z
DTEND:20210219T230000Z
LAST-MODIFIED:20201218T000000Z
LOCATION:
END:VEVENT
BEGIN:VEVENT
SUMMARY:Blocking period January/February 2021
UID:32719
DTSTART:20210220T230000Z
DTEND:20210220T230000Z
LAST-MODIFIED:20201218T000000Z
LOCATION:
END:VEVENT
BEGIN:VEVENT
SUMMARY:Blocking period January/February 2021
UID:32719
DTSTART:20210221T230000Z
DTEND:20210221T230000Z
LAST-MODIFIED:20201218T000000Z
LOCATION:
END:VEVENT
BEGIN:VEVENT
SUMMARY:Blocking period January/February 2021
UID:32719
DTSTART:20210222T230000Z
DTEND:20210222T230000Z
LAST-MODIFIED:20201218T000000Z
LOCATION:
END:VEVENT
BEGIN:VEVENT
SUMMARY:Blocking period January/February 2021
UID:32719
DTSTART:20210223T230000Z
DTEND:20210223T230000Z
LAST-MODIFIED:20201218T000000Z
LOCATION:
END:VEVENT
END:VCALENDAR