BEGIN:VCALENDAR
METHOD:PUBLISH
VERSION:2.0
PRODID:-//IGD//IGD//IT
BEGIN:VEVENT
SUMMARY:Italian Stock Exchange: closing day on 31 December 2021
UID:32715
DTSTART:20211230T230000Z
DTEND:20211230T230000Z
LAST-MODIFIED:20201218T000000Z
LOCATION:Milano
END:VEVENT
END:VCALENDAR