BEGIN:VCALENDAR
METHOD:PUBLISH
VERSION:2.0
PRODID:-//IGD//IGD//IT
BEGIN:VEVENT
SUMMARY:Italian Stock Exchange: closing day 24 December 2021
UID:32708
DTSTART:20211223T230000Z
DTEND:20211223T230000Z
LAST-MODIFIED:20201218T000000Z
LOCATION:Milan
END:VEVENT
END:VCALENDAR