BEGIN:VCALENDAR
METHOD:PUBLISH
VERSION:2.0
PRODID:-//IGD//IGD//IT
BEGIN:VEVENT
SUMMARY:Italian Stock Exchange: closing days from 2 to 5 April 2021
UID:32706
DTSTART:20210401T220000Z
DTEND:20210401T220000Z
LAST-MODIFIED:20201218T000000Z
LOCATION:Milan
END:VEVENT
BEGIN:VEVENT
SUMMARY:Italian Stock Exchange: closing days from 2 to 5 April 2021
UID:32706
DTSTART:20210402T220000Z
DTEND:20210402T220000Z
LAST-MODIFIED:20201218T000000Z
LOCATION:Milan
END:VEVENT
BEGIN:VEVENT
SUMMARY:Italian Stock Exchange: closing days from 2 to 5 April 2021
UID:32706
DTSTART:20210403T220000Z
DTEND:20210403T220000Z
LAST-MODIFIED:20201218T000000Z
LOCATION:Milan
END:VEVENT
BEGIN:VEVENT
SUMMARY:Italian Stock Exchange: closing days from 2 to 5 April 2021
UID:32706
DTSTART:20210404T220000Z
DTEND:20210404T220000Z
LAST-MODIFIED:20201218T000000Z
LOCATION:Milan
END:VEVENT
END:VCALENDAR