BEGIN:VCALENDAR
METHOD:PUBLISH
VERSION:2.0
PRODID:-//IGD//IGD//IT
BEGIN:VEVENT
SUMMARY:Board of Directors of 4 November 2021
UID:32701
DTSTART:20211104T090000Z
DTEND:20211104T090000Z
LAST-MODIFIED:20210525T000000Z
LOCATION:Bologna
END:VEVENT
END:VCALENDAR