BEGIN:VCALENDAR
METHOD:PUBLISH
VERSION:2.0
PRODID:-//IGD//IGD//IT
BEGIN:VEVENT
SUMMARY:Board of Directors of 5 August 2021
UID:32696
DTSTART:20210805T080000Z
DTEND:20210805T080000Z
LAST-MODIFIED:20201218T000000Z
LOCATION:Bologna
END:VEVENT
END:VCALENDAR