BEGIN:VCALENDAR
METHOD:PUBLISH
VERSION:2.0
PRODID:-//IGD//IGD//IT
BEGIN:VEVENT
SUMMARY:Board of Directors of 6 May 2021
UID:32690
DTSTART:20210506T080000Z
DTEND:20210506T080000Z
LAST-MODIFIED:20210525T000000Z
LOCATION:Bologna
END:VEVENT
END:VCALENDAR