BEGIN:VCALENDAR
METHOD:PUBLISH
VERSION:2.0
PRODID:-//IGD//IGD//IT
BEGIN:VEVENT
SUMMARY:Annual General Meeting of 15 April 2021 (first call)
UID:32686
DTSTART:20210415T080000Z
DTEND:20210415T080000Z
LAST-MODIFIED:20210305T000000Z
LOCATION:Bologna
END:VEVENT
END:VCALENDAR