BEGIN:VCALENDAR
METHOD:PUBLISH
VERSION:2.0
PRODID:-//IGD//IGD//IT
BEGIN:VEVENT
SUMMARY:Board of Directors of 25 February 2021
UID:32675
DTSTART:20210225T090000Z
DTEND:20210225T090000Z
LAST-MODIFIED:20210226T000000Z
LOCATION:Bologna
END:VEVENT
END:VCALENDAR