BEGIN:VCALENDAR
METHOD:PUBLISH
VERSION:2.0
PRODID:-//IGD//IGD//IT
BEGIN:VEVENT
SUMMARY:MAPIC &#038; LeisurUp Digital Edition 2020
UID:32262
DTSTART:20201116T230000Z
DTEND:20201116T230000Z
LAST-MODIFIED:20201116T000000Z
LOCATION:
END:VEVENT
BEGIN:VEVENT
SUMMARY:MAPIC &#038; LeisurUp Digital Edition 2020
UID:32262
DTSTART:20201117T230000Z
DTEND:20201117T230000Z
LAST-MODIFIED:20201116T000000Z
LOCATION:
END:VEVENT
BEGIN:VEVENT
SUMMARY:MAPIC &#038; LeisurUp Digital Edition 2020
UID:32262
DTSTART:20201118T230000Z
DTEND:20201118T230000Z
LAST-MODIFIED:20201116T000000Z
LOCATION:
END:VEVENT
END:VCALENDAR