BEGIN:VCALENDAR
METHOD:PUBLISH
VERSION:2.0
PRODID:-//IGD//IGD//IT
BEGIN:VEVENT
SUMMARY:Morgan Stanley Virtual Fixed Income Real Estate Conference
UID:31295
DTSTART:20200930T220000Z
DTEND:20200930T220000Z
LAST-MODIFIED:20201001T000000Z
LOCATION:
END:VEVENT
END:VCALENDAR