BEGIN:VCALENDAR
METHOD:PUBLISH
VERSION:2.0
PRODID:-//IGD//IGD//IT
BEGIN:VEVENT
SUMMARY:Virtual STAR Conference 2020 Fall edition
UID:29403
DTSTART:20201005T220000Z
DTEND:20201005T220000Z
LAST-MODIFIED:20201012T000000Z
LOCATION:
END:VEVENT
END:VCALENDAR