BEGIN:VCALENDAR
METHOD:PUBLISH
VERSION:2.0
PRODID:-//IGD//IGD//IT
BEGIN:VEVENT
SUMMARY:Virtual EPRA Conference 2020
UID:29389
DTSTART:20200906T220000Z
DTEND:20200906T220000Z
LAST-MODIFIED:20200707T000000Z
LOCATION:
END:VEVENT
BEGIN:VEVENT
SUMMARY:Virtual EPRA Conference 2020
UID:29389
DTSTART:20200907T220000Z
DTEND:20200907T220000Z
LAST-MODIFIED:20200707T000000Z
LOCATION:
END:VEVENT
BEGIN:VEVENT
SUMMARY:Virtual EPRA Conference 2020
UID:29389
DTSTART:20200908T220000Z
DTEND:20200908T220000Z
LAST-MODIFIED:20200707T000000Z
LOCATION:
END:VEVENT
BEGIN:VEVENT
SUMMARY:Virtual EPRA Conference 2020
UID:29389
DTSTART:20200909T220000Z
DTEND:20200909T220000Z
LAST-MODIFIED:20200707T000000Z
LOCATION:
END:VEVENT
BEGIN:VEVENT
SUMMARY:Virtual EPRA Conference 2020
UID:29389
DTSTART:20200910T220000Z
DTEND:20200910T220000Z
LAST-MODIFIED:20200707T000000Z
LOCATION:
END:VEVENT
END:VCALENDAR