BEGIN:VCALENDAR
METHOD:PUBLISH
VERSION:2.0
PRODID:-//IGD//IGD//IT
BEGIN:VEVENT
SUMMARY:Virtual ISMO &#8211; Italian Stock Market Opportunities 2020
UID:29368
DTSTART:20200903T220000Z
DTEND:20200903T220000Z
LAST-MODIFIED:20200904T000000Z
LOCATION:
END:VEVENT
END:VCALENDAR