BEGIN:VCALENDAR
METHOD:PUBLISH
VERSION:2.0
PRODID:-//IGD//IGD//IT
BEGIN:VEVENT
SUMMARY:Digital Italian Sustainability Week 2020
UID:28456
DTSTART:20200628T220000Z
DTEND:20200628T220000Z
LAST-MODIFIED:20200710T000000Z
LOCATION:
END:VEVENT
BEGIN:VEVENT
SUMMARY:Digital Italian Sustainability Week 2020
UID:28456
DTSTART:20200629T220000Z
DTEND:20200629T220000Z
LAST-MODIFIED:20200710T000000Z
LOCATION:
END:VEVENT
BEGIN:VEVENT
SUMMARY:Digital Italian Sustainability Week 2020
UID:28456
DTSTART:20200630T220000Z
DTEND:20200630T220000Z
LAST-MODIFIED:20200710T000000Z
LOCATION:
END:VEVENT
BEGIN:VEVENT
SUMMARY:Digital Italian Sustainability Week 2020
UID:28456
DTSTART:20200701T220000Z
DTEND:20200701T220000Z
LAST-MODIFIED:20200710T000000Z
LOCATION:
END:VEVENT
BEGIN:VEVENT
SUMMARY:Digital Italian Sustainability Week 2020
UID:28456
DTSTART:20200702T220000Z
DTEND:20200702T220000Z
LAST-MODIFIED:20200710T000000Z
LOCATION:
END:VEVENT
END:VCALENDAR