BEGIN:VCALENDAR
METHOD:PUBLISH
VERSION:2.0
PRODID:-//IGD//IGD//IT
BEGIN:VEVENT
SUMMARY:Morgan Stanley Virtual Europe &#038; EEMEA Property Conference 2020
UID:28443
DTSTART:20200617T220000Z
DTEND:20200617T220000Z
LAST-MODIFIED:20200604T000000Z
LOCATION:
END:VEVENT
END:VCALENDAR