BEGIN:VCALENDAR
METHOD:PUBLISH
VERSION:2.0
PRODID:-//IGD//IGD//IT
BEGIN:VEVENT
SUMMARY:Digital Italian Equity Roadshow 2020, Asia &#038; Australia
UID:28105
DTSTART:20200511T220000Z
DTEND:20200511T220000Z
LAST-MODIFIED:20200518T000000Z
LOCATION:
END:VEVENT
BEGIN:VEVENT
SUMMARY:Digital Italian Equity Roadshow 2020, Asia &#038; Australia
UID:28105
DTSTART:20200512T220000Z
DTEND:20200512T220000Z
LAST-MODIFIED:20200518T000000Z
LOCATION:
END:VEVENT
BEGIN:VEVENT
SUMMARY:Digital Italian Equity Roadshow 2020, Asia &#038; Australia
UID:28105
DTSTART:20200513T220000Z
DTEND:20200513T220000Z
LAST-MODIFIED:20200518T000000Z
LOCATION:
END:VEVENT
BEGIN:VEVENT
SUMMARY:Digital Italian Equity Roadshow 2020, Asia &#038; Australia
UID:28105
DTSTART:20200514T220000Z
DTEND:20200514T220000Z
LAST-MODIFIED:20200518T000000Z
LOCATION:
END:VEVENT
BEGIN:VEVENT
SUMMARY:Digital Italian Equity Roadshow 2020, Asia &#038; Australia
UID:28105
DTSTART:20200515T220000Z
DTEND:20200515T220000Z
LAST-MODIFIED:20200518T000000Z
LOCATION:
END:VEVENT
BEGIN:VEVENT
SUMMARY:Digital Italian Equity Roadshow 2020, Asia &#038; Australia
UID:28105
DTSTART:20200516T220000Z
DTEND:20200516T220000Z
LAST-MODIFIED:20200518T000000Z
LOCATION:
END:VEVENT
BEGIN:VEVENT
SUMMARY:Digital Italian Equity Roadshow 2020, Asia &#038; Australia
UID:28105
DTSTART:20200517T220000Z
DTEND:20200517T220000Z
LAST-MODIFIED:20200518T000000Z
LOCATION:
END:VEVENT
BEGIN:VEVENT
SUMMARY:Digital Italian Equity Roadshow 2020, Asia &#038; Australia
UID:28105
DTSTART:20200518T220000Z
DTEND:20200518T220000Z
LAST-MODIFIED:20200518T000000Z
LOCATION:
END:VEVENT
BEGIN:VEVENT
SUMMARY:Digital Italian Equity Roadshow 2020, Asia &#038; Australia
UID:28105
DTSTART:20200519T220000Z
DTEND:20200519T220000Z
LAST-MODIFIED:20200518T000000Z
LOCATION:
END:VEVENT
BEGIN:VEVENT
SUMMARY:Digital Italian Equity Roadshow 2020, Asia &#038; Australia
UID:28105
DTSTART:20200520T220000Z
DTEND:20200520T220000Z
LAST-MODIFIED:20200518T000000Z
LOCATION:
END:VEVENT
BEGIN:VEVENT
SUMMARY:Digital Italian Equity Roadshow 2020, Asia &#038; Australia
UID:28105
DTSTART:20200521T220000Z
DTEND:20200521T220000Z
LAST-MODIFIED:20200518T000000Z
LOCATION:
END:VEVENT
BEGIN:VEVENT
SUMMARY:Digital Italian Equity Roadshow 2020, Asia &#038; Australia
UID:28105
DTSTART:20200522T220000Z
DTEND:20200522T220000Z
LAST-MODIFIED:20200518T000000Z
LOCATION:
END:VEVENT
BEGIN:VEVENT
SUMMARY:Digital Italian Equity Roadshow 2020, Asia &#038; Australia
UID:28105
DTSTART:20200523T220000Z
DTEND:20200523T220000Z
LAST-MODIFIED:20200518T000000Z
LOCATION:
END:VEVENT
BEGIN:VEVENT
SUMMARY:Digital Italian Equity Roadshow 2020, Asia &#038; Australia
UID:28105
DTSTART:20200524T220000Z
DTEND:20200524T220000Z
LAST-MODIFIED:20200518T000000Z
LOCATION:
END:VEVENT
BEGIN:VEVENT
SUMMARY:Digital Italian Equity Roadshow 2020, Asia &#038; Australia
UID:28105
DTSTART:20200525T220000Z
DTEND:20200525T220000Z
LAST-MODIFIED:20200518T000000Z
LOCATION:
END:VEVENT
BEGIN:VEVENT
SUMMARY:Digital Italian Equity Roadshow 2020, Asia &#038; Australia
UID:28105
DTSTART:20200526T220000Z
DTEND:20200526T220000Z
LAST-MODIFIED:20200518T000000Z
LOCATION:
END:VEVENT
BEGIN:VEVENT
SUMMARY:Digital Italian Equity Roadshow 2020, Asia &#038; Australia
UID:28105
DTSTART:20200527T220000Z
DTEND:20200527T220000Z
LAST-MODIFIED:20200518T000000Z
LOCATION:
END:VEVENT
BEGIN:VEVENT
SUMMARY:Digital Italian Equity Roadshow 2020, Asia &#038; Australia
UID:28105
DTSTART:20200528T220000Z
DTEND:20200528T220000Z
LAST-MODIFIED:20200518T000000Z
LOCATION:
END:VEVENT
BEGIN:VEVENT
SUMMARY:Digital Italian Equity Roadshow 2020, Asia &#038; Australia
UID:28105
DTSTART:20200529T220000Z
DTEND:20200529T220000Z
LAST-MODIFIED:20200518T000000Z
LOCATION:
END:VEVENT
BEGIN:VEVENT
SUMMARY:Digital Italian Equity Roadshow 2020, Asia &#038; Australia
UID:28105
DTSTART:20200530T220000Z
DTEND:20200530T220000Z
LAST-MODIFIED:20200518T000000Z
LOCATION:
END:VEVENT
BEGIN:VEVENT
SUMMARY:Digital Italian Equity Roadshow 2020, Asia &#038; Australia
UID:28105
DTSTART:20200531T220000Z
DTEND:20200531T220000Z
LAST-MODIFIED:20200518T000000Z
LOCATION:
END:VEVENT
BEGIN:VEVENT
SUMMARY:Digital Italian Equity Roadshow 2020, Asia &#038; Australia
UID:28105
DTSTART:20200601T220000Z
DTEND:20200601T220000Z
LAST-MODIFIED:20200518T000000Z
LOCATION:
END:VEVENT
BEGIN:VEVENT
SUMMARY:Digital Italian Equity Roadshow 2020, Asia &#038; Australia
UID:28105
DTSTART:20200602T220000Z
DTEND:20200602T220000Z
LAST-MODIFIED:20200518T000000Z
LOCATION:
END:VEVENT
BEGIN:VEVENT
SUMMARY:Digital Italian Equity Roadshow 2020, Asia &#038; Australia
UID:28105
DTSTART:20200603T220000Z
DTEND:20200603T220000Z
LAST-MODIFIED:20200518T000000Z
LOCATION:
END:VEVENT
BEGIN:VEVENT
SUMMARY:Digital Italian Equity Roadshow 2020, Asia &#038; Australia
UID:28105
DTSTART:20200604T220000Z
DTEND:20200604T220000Z
LAST-MODIFIED:20200518T000000Z
LOCATION:
END:VEVENT
BEGIN:VEVENT
SUMMARY:Digital Italian Equity Roadshow 2020, Asia &#038; Australia
UID:28105
DTSTART:20200605T220000Z
DTEND:20200605T220000Z
LAST-MODIFIED:20200518T000000Z
LOCATION:
END:VEVENT
BEGIN:VEVENT
SUMMARY:Digital Italian Equity Roadshow 2020, Asia &#038; Australia
UID:28105
DTSTART:20200606T220000Z
DTEND:20200606T220000Z
LAST-MODIFIED:20200518T000000Z
LOCATION:
END:VEVENT
BEGIN:VEVENT
SUMMARY:Digital Italian Equity Roadshow 2020, Asia &#038; Australia
UID:28105
DTSTART:20200607T220000Z
DTEND:20200607T220000Z
LAST-MODIFIED:20200518T000000Z
LOCATION:
END:VEVENT
BEGIN:VEVENT
SUMMARY:Digital Italian Equity Roadshow 2020, Asia &#038; Australia
UID:28105
DTSTART:20200608T220000Z
DTEND:20200608T220000Z
LAST-MODIFIED:20200518T000000Z
LOCATION:
END:VEVENT
BEGIN:VEVENT
SUMMARY:Digital Italian Equity Roadshow 2020, Asia &#038; Australia
UID:28105
DTSTART:20200609T220000Z
DTEND:20200609T220000Z
LAST-MODIFIED:20200518T000000Z
LOCATION:
END:VEVENT
BEGIN:VEVENT
SUMMARY:Digital Italian Equity Roadshow 2020, Asia &#038; Australia
UID:28105
DTSTART:20200610T220000Z
DTEND:20200610T220000Z
LAST-MODIFIED:20200518T000000Z
LOCATION:
END:VEVENT
BEGIN:VEVENT
SUMMARY:Digital Italian Equity Roadshow 2020, Asia &#038; Australia
UID:28105
DTSTART:20200611T220000Z
DTEND:20200611T220000Z
LAST-MODIFIED:20200518T000000Z
LOCATION:
END:VEVENT
BEGIN:VEVENT
SUMMARY:Digital Italian Equity Roadshow 2020, Asia &#038; Australia
UID:28105
DTSTART:20200612T220000Z
DTEND:20200612T220000Z
LAST-MODIFIED:20200518T000000Z
LOCATION:
END:VEVENT
BEGIN:VEVENT
SUMMARY:Digital Italian Equity Roadshow 2020, Asia &#038; Australia
UID:28105
DTSTART:20200613T220000Z
DTEND:20200613T220000Z
LAST-MODIFIED:20200518T000000Z
LOCATION:
END:VEVENT
BEGIN:VEVENT
SUMMARY:Digital Italian Equity Roadshow 2020, Asia &#038; Australia
UID:28105
DTSTART:20200614T220000Z
DTEND:20200614T220000Z
LAST-MODIFIED:20200518T000000Z
LOCATION:
END:VEVENT
END:VCALENDAR