BEGIN:VCALENDAR
METHOD:PUBLISH
VERSION:2.0
PRODID:-//IGD//IGD//IT
BEGIN:VEVENT
SUMMARY:EPRA Virtual Corporate Access Day &#8211; Summer 2020 edition
UID:28085
DTSTART:20200527T220000Z
DTEND:20200527T220000Z
LAST-MODIFIED:20200515T000000Z
LOCATION:
END:VEVENT
END:VCALENDAR