BEGIN:VCALENDAR
METHOD:PUBLISH
VERSION:2.0
PRODID:-//IGD//IGD//IT
BEGIN:VEVENT
SUMMARY:Virtual STAR Conference 2020
UID:28080
DTSTART:20200525T220000Z
DTEND:20200525T220000Z
LAST-MODIFIED:20200515T000000Z
LOCATION:
END:VEVENT
END:VCALENDAR