BEGIN:VCALENDAR
METHOD:PUBLISH
VERSION:2.0
PRODID:-//IGD//IGD//IT
BEGIN:VEVENT
SUMMARY:Goldman Sachs European Real Estate Fixed Income Investor Conference 2020
UID:28071
DTSTART:20200514T220000Z
DTEND:20200514T220000Z
LAST-MODIFIED:20200515T000000Z
LOCATION:
END:VEVENT
END:VCALENDAR