BEGIN:VCALENDAR
METHOD:PUBLISH
VERSION:2.0
PRODID:-//IGD//IGD//IT
BEGIN:VEVENT
SUMMARY:2020 dividend payment
UID:27146
DTSTART:20200721T220000Z
DTEND:20200721T220000Z
LAST-MODIFIED:20200317T000000Z
LOCATION:
END:VEVENT
END:VCALENDAR