BEGIN:VCALENDAR
METHOD:PUBLISH
VERSION:2.0
PRODID:-//IGD//IGD//IT
BEGIN:VEVENT
SUMMARY:Going ex-dividend 2020
UID:27141
DTSTART:20200719T220000Z
DTEND:20200719T220000Z
LAST-MODIFIED:20200317T000000Z
LOCATION:
END:VEVENT
END:VCALENDAR