BEGIN:VCALENDAR
METHOD:PUBLISH
VERSION:2.0
PRODID:-//IGD//IGD//IT
BEGIN:VEVENT
SUMMARY:Conference call to present the results as at 30 September 2020 &#8211; for more details
UID:26080
DTSTART:20201104T230000Z
DTEND:20201104T230000Z
LAST-MODIFIED:20201105T000000Z
LOCATION:Bologna
END:VEVENT
END:VCALENDAR