BEGIN:VCALENDAR
METHOD:PUBLISH
VERSION:2.0
PRODID:-//IGD//IGD//IT
BEGIN:VEVENT
SUMMARY:Conference call to present the results as at 30 June 2020
UID:26076
DTSTART:20200805T220000Z
DTEND:20200805T220000Z
LAST-MODIFIED:20200903T000000Z
LOCATION:Bologna
END:VEVENT
END:VCALENDAR