BEGIN:VCALENDAR
METHOD:PUBLISH
VERSION:2.0
PRODID:-//IGD//IGD//IT
BEGIN:VEVENT
SUMMARY:Conference call to present the results as at 31 March 2020
UID:26072
DTSTART:20200506T220000Z
DTEND:20200506T220000Z
LAST-MODIFIED:20191217T000000Z
LOCATION:Bologna
END:VEVENT
END:VCALENDAR