BEGIN:VCALENDAR
METHOD:PUBLISH
VERSION:2.0
PRODID:-//IGD//IGD//IT
BEGIN:VEVENT
SUMMARY:Conference call to present the results as at 31 December 2019
UID:26068
DTSTART:20200226T230000Z
DTEND:20200226T230000Z
LAST-MODIFIED:20191217T000000Z
LOCATION:Bologna
END:VEVENT
END:VCALENDAR