BEGIN:VCALENDAR
METHOD:PUBLISH
VERSION:2.0
PRODID:-//IGD//IGD//IT
BEGIN:VEVENT
SUMMARY:Blocking period October/November 2020
UID:26064
DTSTART:20201005T220000Z
DTEND:20201005T220000Z
LAST-MODIFIED:20191217T000000Z
LOCATION:
END:VEVENT
BEGIN:VEVENT
SUMMARY:Blocking period October/November 2020
UID:26064
DTSTART:20201006T220000Z
DTEND:20201006T220000Z
LAST-MODIFIED:20191217T000000Z
LOCATION:
END:VEVENT
BEGIN:VEVENT
SUMMARY:Blocking period October/November 2020
UID:26064
DTSTART:20201007T220000Z
DTEND:20201007T220000Z
LAST-MODIFIED:20191217T000000Z
LOCATION:
END:VEVENT
BEGIN:VEVENT
SUMMARY:Blocking period October/November 2020
UID:26064
DTSTART:20201008T220000Z
DTEND:20201008T220000Z
LAST-MODIFIED:20191217T000000Z
LOCATION:
END:VEVENT
BEGIN:VEVENT
SUMMARY:Blocking period October/November 2020
UID:26064
DTSTART:20201009T220000Z
DTEND:20201009T220000Z
LAST-MODIFIED:20191217T000000Z
LOCATION:
END:VEVENT
BEGIN:VEVENT
SUMMARY:Blocking period October/November 2020
UID:26064
DTSTART:20201010T220000Z
DTEND:20201010T220000Z
LAST-MODIFIED:20191217T000000Z
LOCATION:
END:VEVENT
BEGIN:VEVENT
SUMMARY:Blocking period October/November 2020
UID:26064
DTSTART:20201011T220000Z
DTEND:20201011T220000Z
LAST-MODIFIED:20191217T000000Z
LOCATION:
END:VEVENT
BEGIN:VEVENT
SUMMARY:Blocking period October/November 2020
UID:26064
DTSTART:20201012T220000Z
DTEND:20201012T220000Z
LAST-MODIFIED:20191217T000000Z
LOCATION:
END:VEVENT
BEGIN:VEVENT
SUMMARY:Blocking period October/November 2020
UID:26064
DTSTART:20201013T220000Z
DTEND:20201013T220000Z
LAST-MODIFIED:20191217T000000Z
LOCATION:
END:VEVENT
BEGIN:VEVENT
SUMMARY:Blocking period October/November 2020
UID:26064
DTSTART:20201014T220000Z
DTEND:20201014T220000Z
LAST-MODIFIED:20191217T000000Z
LOCATION:
END:VEVENT
BEGIN:VEVENT
SUMMARY:Blocking period October/November 2020
UID:26064
DTSTART:20201015T220000Z
DTEND:20201015T220000Z
LAST-MODIFIED:20191217T000000Z
LOCATION:
END:VEVENT
BEGIN:VEVENT
SUMMARY:Blocking period October/November 2020
UID:26064
DTSTART:20201016T220000Z
DTEND:20201016T220000Z
LAST-MODIFIED:20191217T000000Z
LOCATION:
END:VEVENT
BEGIN:VEVENT
SUMMARY:Blocking period October/November 2020
UID:26064
DTSTART:20201017T220000Z
DTEND:20201017T220000Z
LAST-MODIFIED:20191217T000000Z
LOCATION:
END:VEVENT
BEGIN:VEVENT
SUMMARY:Blocking period October/November 2020
UID:26064
DTSTART:20201018T220000Z
DTEND:20201018T220000Z
LAST-MODIFIED:20191217T000000Z
LOCATION:
END:VEVENT
BEGIN:VEVENT
SUMMARY:Blocking period October/November 2020
UID:26064
DTSTART:20201019T220000Z
DTEND:20201019T220000Z
LAST-MODIFIED:20191217T000000Z
LOCATION:
END:VEVENT
BEGIN:VEVENT
SUMMARY:Blocking period October/November 2020
UID:26064
DTSTART:20201020T220000Z
DTEND:20201020T220000Z
LAST-MODIFIED:20191217T000000Z
LOCATION:
END:VEVENT
BEGIN:VEVENT
SUMMARY:Blocking period October/November 2020
UID:26064
DTSTART:20201021T220000Z
DTEND:20201021T220000Z
LAST-MODIFIED:20191217T000000Z
LOCATION:
END:VEVENT
BEGIN:VEVENT
SUMMARY:Blocking period October/November 2020
UID:26064
DTSTART:20201022T220000Z
DTEND:20201022T220000Z
LAST-MODIFIED:20191217T000000Z
LOCATION:
END:VEVENT
BEGIN:VEVENT
SUMMARY:Blocking period October/November 2020
UID:26064
DTSTART:20201023T220000Z
DTEND:20201023T220000Z
LAST-MODIFIED:20191217T000000Z
LOCATION:
END:VEVENT
BEGIN:VEVENT
SUMMARY:Blocking period October/November 2020
UID:26064
DTSTART:20201024T220000Z
DTEND:20201024T220000Z
LAST-MODIFIED:20191217T000000Z
LOCATION:
END:VEVENT
BEGIN:VEVENT
SUMMARY:Blocking period October/November 2020
UID:26064
DTSTART:20201025T230000Z
DTEND:20201025T230000Z
LAST-MODIFIED:20191217T000000Z
LOCATION:
END:VEVENT
BEGIN:VEVENT
SUMMARY:Blocking period October/November 2020
UID:26064
DTSTART:20201026T230000Z
DTEND:20201026T230000Z
LAST-MODIFIED:20191217T000000Z
LOCATION:
END:VEVENT
BEGIN:VEVENT
SUMMARY:Blocking period October/November 2020
UID:26064
DTSTART:20201027T230000Z
DTEND:20201027T230000Z
LAST-MODIFIED:20191217T000000Z
LOCATION:
END:VEVENT
BEGIN:VEVENT
SUMMARY:Blocking period October/November 2020
UID:26064
DTSTART:20201028T230000Z
DTEND:20201028T230000Z
LAST-MODIFIED:20191217T000000Z
LOCATION:
END:VEVENT
BEGIN:VEVENT
SUMMARY:Blocking period October/November 2020
UID:26064
DTSTART:20201029T230000Z
DTEND:20201029T230000Z
LAST-MODIFIED:20191217T000000Z
LOCATION:
END:VEVENT
BEGIN:VEVENT
SUMMARY:Blocking period October/November 2020
UID:26064
DTSTART:20201030T230000Z
DTEND:20201030T230000Z
LAST-MODIFIED:20191217T000000Z
LOCATION:
END:VEVENT
BEGIN:VEVENT
SUMMARY:Blocking period October/November 2020
UID:26064
DTSTART:20201031T230000Z
DTEND:20201031T230000Z
LAST-MODIFIED:20191217T000000Z
LOCATION:
END:VEVENT
BEGIN:VEVENT
SUMMARY:Blocking period October/November 2020
UID:26064
DTSTART:20201101T230000Z
DTEND:20201101T230000Z
LAST-MODIFIED:20191217T000000Z
LOCATION:
END:VEVENT
BEGIN:VEVENT
SUMMARY:Blocking period October/November 2020
UID:26064
DTSTART:20201102T230000Z
DTEND:20201102T230000Z
LAST-MODIFIED:20191217T000000Z
LOCATION:
END:VEVENT
BEGIN:VEVENT
SUMMARY:Blocking period October/November 2020
UID:26064
DTSTART:20201103T230000Z
DTEND:20201103T230000Z
LAST-MODIFIED:20191217T000000Z
LOCATION:
END:VEVENT
END:VCALENDAR