BEGIN:VCALENDAR
METHOD:PUBLISH
VERSION:2.0
PRODID:-//IGD//IGD//IT
BEGIN:VEVENT
SUMMARY:Blocking period July/August 2020
UID:26059
DTSTART:20200706T220000Z
DTEND:20200706T220000Z
LAST-MODIFIED:20191217T000000Z
LOCATION:
END:VEVENT
BEGIN:VEVENT
SUMMARY:Blocking period July/August 2020
UID:26059
DTSTART:20200707T220000Z
DTEND:20200707T220000Z
LAST-MODIFIED:20191217T000000Z
LOCATION:
END:VEVENT
BEGIN:VEVENT
SUMMARY:Blocking period July/August 2020
UID:26059
DTSTART:20200708T220000Z
DTEND:20200708T220000Z
LAST-MODIFIED:20191217T000000Z
LOCATION:
END:VEVENT
BEGIN:VEVENT
SUMMARY:Blocking period July/August 2020
UID:26059
DTSTART:20200709T220000Z
DTEND:20200709T220000Z
LAST-MODIFIED:20191217T000000Z
LOCATION:
END:VEVENT
BEGIN:VEVENT
SUMMARY:Blocking period July/August 2020
UID:26059
DTSTART:20200710T220000Z
DTEND:20200710T220000Z
LAST-MODIFIED:20191217T000000Z
LOCATION:
END:VEVENT
BEGIN:VEVENT
SUMMARY:Blocking period July/August 2020
UID:26059
DTSTART:20200711T220000Z
DTEND:20200711T220000Z
LAST-MODIFIED:20191217T000000Z
LOCATION:
END:VEVENT
BEGIN:VEVENT
SUMMARY:Blocking period July/August 2020
UID:26059
DTSTART:20200712T220000Z
DTEND:20200712T220000Z
LAST-MODIFIED:20191217T000000Z
LOCATION:
END:VEVENT
BEGIN:VEVENT
SUMMARY:Blocking period July/August 2020
UID:26059
DTSTART:20200713T220000Z
DTEND:20200713T220000Z
LAST-MODIFIED:20191217T000000Z
LOCATION:
END:VEVENT
BEGIN:VEVENT
SUMMARY:Blocking period July/August 2020
UID:26059
DTSTART:20200714T220000Z
DTEND:20200714T220000Z
LAST-MODIFIED:20191217T000000Z
LOCATION:
END:VEVENT
BEGIN:VEVENT
SUMMARY:Blocking period July/August 2020
UID:26059
DTSTART:20200715T220000Z
DTEND:20200715T220000Z
LAST-MODIFIED:20191217T000000Z
LOCATION:
END:VEVENT
BEGIN:VEVENT
SUMMARY:Blocking period July/August 2020
UID:26059
DTSTART:20200716T220000Z
DTEND:20200716T220000Z
LAST-MODIFIED:20191217T000000Z
LOCATION:
END:VEVENT
BEGIN:VEVENT
SUMMARY:Blocking period July/August 2020
UID:26059
DTSTART:20200717T220000Z
DTEND:20200717T220000Z
LAST-MODIFIED:20191217T000000Z
LOCATION:
END:VEVENT
BEGIN:VEVENT
SUMMARY:Blocking period July/August 2020
UID:26059
DTSTART:20200718T220000Z
DTEND:20200718T220000Z
LAST-MODIFIED:20191217T000000Z
LOCATION:
END:VEVENT
BEGIN:VEVENT
SUMMARY:Blocking period July/August 2020
UID:26059
DTSTART:20200719T220000Z
DTEND:20200719T220000Z
LAST-MODIFIED:20191217T000000Z
LOCATION:
END:VEVENT
BEGIN:VEVENT
SUMMARY:Blocking period July/August 2020
UID:26059
DTSTART:20200720T220000Z
DTEND:20200720T220000Z
LAST-MODIFIED:20191217T000000Z
LOCATION:
END:VEVENT
BEGIN:VEVENT
SUMMARY:Blocking period July/August 2020
UID:26059
DTSTART:20200721T220000Z
DTEND:20200721T220000Z
LAST-MODIFIED:20191217T000000Z
LOCATION:
END:VEVENT
BEGIN:VEVENT
SUMMARY:Blocking period July/August 2020
UID:26059
DTSTART:20200722T220000Z
DTEND:20200722T220000Z
LAST-MODIFIED:20191217T000000Z
LOCATION:
END:VEVENT
BEGIN:VEVENT
SUMMARY:Blocking period July/August 2020
UID:26059
DTSTART:20200723T220000Z
DTEND:20200723T220000Z
LAST-MODIFIED:20191217T000000Z
LOCATION:
END:VEVENT
BEGIN:VEVENT
SUMMARY:Blocking period July/August 2020
UID:26059
DTSTART:20200724T220000Z
DTEND:20200724T220000Z
LAST-MODIFIED:20191217T000000Z
LOCATION:
END:VEVENT
BEGIN:VEVENT
SUMMARY:Blocking period July/August 2020
UID:26059
DTSTART:20200725T220000Z
DTEND:20200725T220000Z
LAST-MODIFIED:20191217T000000Z
LOCATION:
END:VEVENT
BEGIN:VEVENT
SUMMARY:Blocking period July/August 2020
UID:26059
DTSTART:20200726T220000Z
DTEND:20200726T220000Z
LAST-MODIFIED:20191217T000000Z
LOCATION:
END:VEVENT
BEGIN:VEVENT
SUMMARY:Blocking period July/August 2020
UID:26059
DTSTART:20200727T220000Z
DTEND:20200727T220000Z
LAST-MODIFIED:20191217T000000Z
LOCATION:
END:VEVENT
BEGIN:VEVENT
SUMMARY:Blocking period July/August 2020
UID:26059
DTSTART:20200728T220000Z
DTEND:20200728T220000Z
LAST-MODIFIED:20191217T000000Z
LOCATION:
END:VEVENT
BEGIN:VEVENT
SUMMARY:Blocking period July/August 2020
UID:26059
DTSTART:20200729T220000Z
DTEND:20200729T220000Z
LAST-MODIFIED:20191217T000000Z
LOCATION:
END:VEVENT
BEGIN:VEVENT
SUMMARY:Blocking period July/August 2020
UID:26059
DTSTART:20200730T220000Z
DTEND:20200730T220000Z
LAST-MODIFIED:20191217T000000Z
LOCATION:
END:VEVENT
BEGIN:VEVENT
SUMMARY:Blocking period July/August 2020
UID:26059
DTSTART:20200731T220000Z
DTEND:20200731T220000Z
LAST-MODIFIED:20191217T000000Z
LOCATION:
END:VEVENT
BEGIN:VEVENT
SUMMARY:Blocking period July/August 2020
UID:26059
DTSTART:20200801T220000Z
DTEND:20200801T220000Z
LAST-MODIFIED:20191217T000000Z
LOCATION:
END:VEVENT
BEGIN:VEVENT
SUMMARY:Blocking period July/August 2020
UID:26059
DTSTART:20200802T220000Z
DTEND:20200802T220000Z
LAST-MODIFIED:20191217T000000Z
LOCATION:
END:VEVENT
BEGIN:VEVENT
SUMMARY:Blocking period July/August 2020
UID:26059
DTSTART:20200803T220000Z
DTEND:20200803T220000Z
LAST-MODIFIED:20191217T000000Z
LOCATION:
END:VEVENT
BEGIN:VEVENT
SUMMARY:Blocking period July/August 2020
UID:26059
DTSTART:20200804T220000Z
DTEND:20200804T220000Z
LAST-MODIFIED:20191217T000000Z
LOCATION:
END:VEVENT
END:VCALENDAR