BEGIN:VCALENDAR
METHOD:PUBLISH
VERSION:2.0
PRODID:-//IGD//IGD//IT
BEGIN:VEVENT
SUMMARY:Blocking period April/May 2020
UID:26055
DTSTART:20200406T220000Z
DTEND:20200406T220000Z
LAST-MODIFIED:20191217T000000Z
LOCATION:
END:VEVENT
BEGIN:VEVENT
SUMMARY:Blocking period April/May 2020
UID:26055
DTSTART:20200407T220000Z
DTEND:20200407T220000Z
LAST-MODIFIED:20191217T000000Z
LOCATION:
END:VEVENT
BEGIN:VEVENT
SUMMARY:Blocking period April/May 2020
UID:26055
DTSTART:20200408T220000Z
DTEND:20200408T220000Z
LAST-MODIFIED:20191217T000000Z
LOCATION:
END:VEVENT
BEGIN:VEVENT
SUMMARY:Blocking period April/May 2020
UID:26055
DTSTART:20200409T220000Z
DTEND:20200409T220000Z
LAST-MODIFIED:20191217T000000Z
LOCATION:
END:VEVENT
BEGIN:VEVENT
SUMMARY:Blocking period April/May 2020
UID:26055
DTSTART:20200410T220000Z
DTEND:20200410T220000Z
LAST-MODIFIED:20191217T000000Z
LOCATION:
END:VEVENT
BEGIN:VEVENT
SUMMARY:Blocking period April/May 2020
UID:26055
DTSTART:20200411T220000Z
DTEND:20200411T220000Z
LAST-MODIFIED:20191217T000000Z
LOCATION:
END:VEVENT
BEGIN:VEVENT
SUMMARY:Blocking period April/May 2020
UID:26055
DTSTART:20200412T220000Z
DTEND:20200412T220000Z
LAST-MODIFIED:20191217T000000Z
LOCATION:
END:VEVENT
BEGIN:VEVENT
SUMMARY:Blocking period April/May 2020
UID:26055
DTSTART:20200413T220000Z
DTEND:20200413T220000Z
LAST-MODIFIED:20191217T000000Z
LOCATION:
END:VEVENT
BEGIN:VEVENT
SUMMARY:Blocking period April/May 2020
UID:26055
DTSTART:20200414T220000Z
DTEND:20200414T220000Z
LAST-MODIFIED:20191217T000000Z
LOCATION:
END:VEVENT
BEGIN:VEVENT
SUMMARY:Blocking period April/May 2020
UID:26055
DTSTART:20200415T220000Z
DTEND:20200415T220000Z
LAST-MODIFIED:20191217T000000Z
LOCATION:
END:VEVENT
BEGIN:VEVENT
SUMMARY:Blocking period April/May 2020
UID:26055
DTSTART:20200416T220000Z
DTEND:20200416T220000Z
LAST-MODIFIED:20191217T000000Z
LOCATION:
END:VEVENT
BEGIN:VEVENT
SUMMARY:Blocking period April/May 2020
UID:26055
DTSTART:20200417T220000Z
DTEND:20200417T220000Z
LAST-MODIFIED:20191217T000000Z
LOCATION:
END:VEVENT
BEGIN:VEVENT
SUMMARY:Blocking period April/May 2020
UID:26055
DTSTART:20200418T220000Z
DTEND:20200418T220000Z
LAST-MODIFIED:20191217T000000Z
LOCATION:
END:VEVENT
BEGIN:VEVENT
SUMMARY:Blocking period April/May 2020
UID:26055
DTSTART:20200419T220000Z
DTEND:20200419T220000Z
LAST-MODIFIED:20191217T000000Z
LOCATION:
END:VEVENT
BEGIN:VEVENT
SUMMARY:Blocking period April/May 2020
UID:26055
DTSTART:20200420T220000Z
DTEND:20200420T220000Z
LAST-MODIFIED:20191217T000000Z
LOCATION:
END:VEVENT
BEGIN:VEVENT
SUMMARY:Blocking period April/May 2020
UID:26055
DTSTART:20200421T220000Z
DTEND:20200421T220000Z
LAST-MODIFIED:20191217T000000Z
LOCATION:
END:VEVENT
BEGIN:VEVENT
SUMMARY:Blocking period April/May 2020
UID:26055
DTSTART:20200422T220000Z
DTEND:20200422T220000Z
LAST-MODIFIED:20191217T000000Z
LOCATION:
END:VEVENT
BEGIN:VEVENT
SUMMARY:Blocking period April/May 2020
UID:26055
DTSTART:20200423T220000Z
DTEND:20200423T220000Z
LAST-MODIFIED:20191217T000000Z
LOCATION:
END:VEVENT
BEGIN:VEVENT
SUMMARY:Blocking period April/May 2020
UID:26055
DTSTART:20200424T220000Z
DTEND:20200424T220000Z
LAST-MODIFIED:20191217T000000Z
LOCATION:
END:VEVENT
BEGIN:VEVENT
SUMMARY:Blocking period April/May 2020
UID:26055
DTSTART:20200425T220000Z
DTEND:20200425T220000Z
LAST-MODIFIED:20191217T000000Z
LOCATION:
END:VEVENT
BEGIN:VEVENT
SUMMARY:Blocking period April/May 2020
UID:26055
DTSTART:20200426T220000Z
DTEND:20200426T220000Z
LAST-MODIFIED:20191217T000000Z
LOCATION:
END:VEVENT
BEGIN:VEVENT
SUMMARY:Blocking period April/May 2020
UID:26055
DTSTART:20200427T220000Z
DTEND:20200427T220000Z
LAST-MODIFIED:20191217T000000Z
LOCATION:
END:VEVENT
BEGIN:VEVENT
SUMMARY:Blocking period April/May 2020
UID:26055
DTSTART:20200428T220000Z
DTEND:20200428T220000Z
LAST-MODIFIED:20191217T000000Z
LOCATION:
END:VEVENT
BEGIN:VEVENT
SUMMARY:Blocking period April/May 2020
UID:26055
DTSTART:20200429T220000Z
DTEND:20200429T220000Z
LAST-MODIFIED:20191217T000000Z
LOCATION:
END:VEVENT
BEGIN:VEVENT
SUMMARY:Blocking period April/May 2020
UID:26055
DTSTART:20200430T220000Z
DTEND:20200430T220000Z
LAST-MODIFIED:20191217T000000Z
LOCATION:
END:VEVENT
BEGIN:VEVENT
SUMMARY:Blocking period April/May 2020
UID:26055
DTSTART:20200501T220000Z
DTEND:20200501T220000Z
LAST-MODIFIED:20191217T000000Z
LOCATION:
END:VEVENT
BEGIN:VEVENT
SUMMARY:Blocking period April/May 2020
UID:26055
DTSTART:20200502T220000Z
DTEND:20200502T220000Z
LAST-MODIFIED:20191217T000000Z
LOCATION:
END:VEVENT
BEGIN:VEVENT
SUMMARY:Blocking period April/May 2020
UID:26055
DTSTART:20200503T220000Z
DTEND:20200503T220000Z
LAST-MODIFIED:20191217T000000Z
LOCATION:
END:VEVENT
BEGIN:VEVENT
SUMMARY:Blocking period April/May 2020
UID:26055
DTSTART:20200504T220000Z
DTEND:20200504T220000Z
LAST-MODIFIED:20191217T000000Z
LOCATION:
END:VEVENT
BEGIN:VEVENT
SUMMARY:Blocking period April/May 2020
UID:26055
DTSTART:20200505T220000Z
DTEND:20200505T220000Z
LAST-MODIFIED:20191217T000000Z
LOCATION:
END:VEVENT
END:VCALENDAR