BEGIN:VCALENDAR
METHOD:PUBLISH
VERSION:2.0
PRODID:-//IGD//IGD//IT
BEGIN:VEVENT
SUMMARY:Blocking period January/February 2020
UID:26051
DTSTART:20200127T230000Z
DTEND:20200127T230000Z
LAST-MODIFIED:20191217T000000Z
LOCATION:
END:VEVENT
BEGIN:VEVENT
SUMMARY:Blocking period January/February 2020
UID:26051
DTSTART:20200128T230000Z
DTEND:20200128T230000Z
LAST-MODIFIED:20191217T000000Z
LOCATION:
END:VEVENT
BEGIN:VEVENT
SUMMARY:Blocking period January/February 2020
UID:26051
DTSTART:20200129T230000Z
DTEND:20200129T230000Z
LAST-MODIFIED:20191217T000000Z
LOCATION:
END:VEVENT
BEGIN:VEVENT
SUMMARY:Blocking period January/February 2020
UID:26051
DTSTART:20200130T230000Z
DTEND:20200130T230000Z
LAST-MODIFIED:20191217T000000Z
LOCATION:
END:VEVENT
BEGIN:VEVENT
SUMMARY:Blocking period January/February 2020
UID:26051
DTSTART:20200131T230000Z
DTEND:20200131T230000Z
LAST-MODIFIED:20191217T000000Z
LOCATION:
END:VEVENT
BEGIN:VEVENT
SUMMARY:Blocking period January/February 2020
UID:26051
DTSTART:20200201T230000Z
DTEND:20200201T230000Z
LAST-MODIFIED:20191217T000000Z
LOCATION:
END:VEVENT
BEGIN:VEVENT
SUMMARY:Blocking period January/February 2020
UID:26051
DTSTART:20200202T230000Z
DTEND:20200202T230000Z
LAST-MODIFIED:20191217T000000Z
LOCATION:
END:VEVENT
BEGIN:VEVENT
SUMMARY:Blocking period January/February 2020
UID:26051
DTSTART:20200203T230000Z
DTEND:20200203T230000Z
LAST-MODIFIED:20191217T000000Z
LOCATION:
END:VEVENT
BEGIN:VEVENT
SUMMARY:Blocking period January/February 2020
UID:26051
DTSTART:20200204T230000Z
DTEND:20200204T230000Z
LAST-MODIFIED:20191217T000000Z
LOCATION:
END:VEVENT
BEGIN:VEVENT
SUMMARY:Blocking period January/February 2020
UID:26051
DTSTART:20200205T230000Z
DTEND:20200205T230000Z
LAST-MODIFIED:20191217T000000Z
LOCATION:
END:VEVENT
BEGIN:VEVENT
SUMMARY:Blocking period January/February 2020
UID:26051
DTSTART:20200206T230000Z
DTEND:20200206T230000Z
LAST-MODIFIED:20191217T000000Z
LOCATION:
END:VEVENT
BEGIN:VEVENT
SUMMARY:Blocking period January/February 2020
UID:26051
DTSTART:20200207T230000Z
DTEND:20200207T230000Z
LAST-MODIFIED:20191217T000000Z
LOCATION:
END:VEVENT
BEGIN:VEVENT
SUMMARY:Blocking period January/February 2020
UID:26051
DTSTART:20200208T230000Z
DTEND:20200208T230000Z
LAST-MODIFIED:20191217T000000Z
LOCATION:
END:VEVENT
BEGIN:VEVENT
SUMMARY:Blocking period January/February 2020
UID:26051
DTSTART:20200209T230000Z
DTEND:20200209T230000Z
LAST-MODIFIED:20191217T000000Z
LOCATION:
END:VEVENT
BEGIN:VEVENT
SUMMARY:Blocking period January/February 2020
UID:26051
DTSTART:20200210T230000Z
DTEND:20200210T230000Z
LAST-MODIFIED:20191217T000000Z
LOCATION:
END:VEVENT
BEGIN:VEVENT
SUMMARY:Blocking period January/February 2020
UID:26051
DTSTART:20200211T230000Z
DTEND:20200211T230000Z
LAST-MODIFIED:20191217T000000Z
LOCATION:
END:VEVENT
BEGIN:VEVENT
SUMMARY:Blocking period January/February 2020
UID:26051
DTSTART:20200212T230000Z
DTEND:20200212T230000Z
LAST-MODIFIED:20191217T000000Z
LOCATION:
END:VEVENT
BEGIN:VEVENT
SUMMARY:Blocking period January/February 2020
UID:26051
DTSTART:20200213T230000Z
DTEND:20200213T230000Z
LAST-MODIFIED:20191217T000000Z
LOCATION:
END:VEVENT
BEGIN:VEVENT
SUMMARY:Blocking period January/February 2020
UID:26051
DTSTART:20200214T230000Z
DTEND:20200214T230000Z
LAST-MODIFIED:20191217T000000Z
LOCATION:
END:VEVENT
BEGIN:VEVENT
SUMMARY:Blocking period January/February 2020
UID:26051
DTSTART:20200215T230000Z
DTEND:20200215T230000Z
LAST-MODIFIED:20191217T000000Z
LOCATION:
END:VEVENT
BEGIN:VEVENT
SUMMARY:Blocking period January/February 2020
UID:26051
DTSTART:20200216T230000Z
DTEND:20200216T230000Z
LAST-MODIFIED:20191217T000000Z
LOCATION:
END:VEVENT
BEGIN:VEVENT
SUMMARY:Blocking period January/February 2020
UID:26051
DTSTART:20200217T230000Z
DTEND:20200217T230000Z
LAST-MODIFIED:20191217T000000Z
LOCATION:
END:VEVENT
BEGIN:VEVENT
SUMMARY:Blocking period January/February 2020
UID:26051
DTSTART:20200218T230000Z
DTEND:20200218T230000Z
LAST-MODIFIED:20191217T000000Z
LOCATION:
END:VEVENT
BEGIN:VEVENT
SUMMARY:Blocking period January/February 2020
UID:26051
DTSTART:20200219T230000Z
DTEND:20200219T230000Z
LAST-MODIFIED:20191217T000000Z
LOCATION:
END:VEVENT
BEGIN:VEVENT
SUMMARY:Blocking period January/February 2020
UID:26051
DTSTART:20200220T230000Z
DTEND:20200220T230000Z
LAST-MODIFIED:20191217T000000Z
LOCATION:
END:VEVENT
BEGIN:VEVENT
SUMMARY:Blocking period January/February 2020
UID:26051
DTSTART:20200221T230000Z
DTEND:20200221T230000Z
LAST-MODIFIED:20191217T000000Z
LOCATION:
END:VEVENT
BEGIN:VEVENT
SUMMARY:Blocking period January/February 2020
UID:26051
DTSTART:20200222T230000Z
DTEND:20200222T230000Z
LAST-MODIFIED:20191217T000000Z
LOCATION:
END:VEVENT
BEGIN:VEVENT
SUMMARY:Blocking period January/February 2020
UID:26051
DTSTART:20200223T230000Z
DTEND:20200223T230000Z
LAST-MODIFIED:20191217T000000Z
LOCATION:
END:VEVENT
BEGIN:VEVENT
SUMMARY:Blocking period January/February 2020
UID:26051
DTSTART:20200224T230000Z
DTEND:20200224T230000Z
LAST-MODIFIED:20191217T000000Z
LOCATION:
END:VEVENT
BEGIN:VEVENT
SUMMARY:Blocking period January/February 2020
UID:26051
DTSTART:20200225T230000Z
DTEND:20200225T230000Z
LAST-MODIFIED:20191217T000000Z
LOCATION:
END:VEVENT
END:VCALENDAR