BEGIN:VCALENDAR
METHOD:PUBLISH
VERSION:2.0
PRODID:-//IGD//IGD//IT
BEGIN:VEVENT
SUMMARY:Board of Directors of 5 November 2020
UID:26032
DTSTART:20201105T090000Z
DTEND:20201105T090000Z
LAST-MODIFIED:20191217T000000Z
LOCATION:Bologna
END:VEVENT
END:VCALENDAR