BEGIN:VCALENDAR
METHOD:PUBLISH
VERSION:2.0
PRODID:-//IGD//IGD//IT
BEGIN:VEVENT
SUMMARY:Board of Directors of 6 August 2020
UID:26028
DTSTART:20200806T080000Z
DTEND:20200806T080000Z
LAST-MODIFIED:20191217T000000Z
LOCATION:Bologna
END:VEVENT
END:VCALENDAR