BEGIN:VCALENDAR
METHOD:PUBLISH
VERSION:2.0
PRODID:-//IGD//IGD//IT
BEGIN:VEVENT
SUMMARY:Board of Directors of 7 May 2020
UID:26024
DTSTART:20200507T080000Z
DTEND:20200507T080000Z
LAST-MODIFIED:20191217T000000Z
LOCATION:Bologna
END:VEVENT
END:VCALENDAR