BEGIN:VCALENDAR
METHOD:PUBLISH
VERSION:2.0
PRODID:-//IGD//IGD//IT
BEGIN:VEVENT
SUMMARY:Annual General Meeting of 11 June 2020 (first call)
UID:26019
DTSTART:20200611T080000Z
DTEND:20200611T080000Z
LAST-MODIFIED:20200317T000000Z
LOCATION:Bologna
END:VEVENT
END:VCALENDAR