BEGIN:VCALENDAR
METHOD:PUBLISH
VERSION:2.0
PRODID:-//IGD//IGD//IT
BEGIN:VEVENT
SUMMARY:Italian Stock Exchange: closing days from 31 December 2020 to 1st January 2021
UID:25678
DTSTART:20201230T230000Z
DTEND:20201230T230000Z
LAST-MODIFIED:20191209T000000Z
LOCATION:Milan
END:VEVENT
BEGIN:VEVENT
SUMMARY:Italian Stock Exchange: closing days from 31 December 2020 to 1st January 2021
UID:25678
DTSTART:20201231T230000Z
DTEND:20201231T230000Z
LAST-MODIFIED:20191209T000000Z
LOCATION:Milan
END:VEVENT
END:VCALENDAR