BEGIN:VCALENDAR
METHOD:PUBLISH
VERSION:2.0
PRODID:-//IGD//IGD//IT
BEGIN:VEVENT
SUMMARY:Italian Stock Exchange: closing days from 24 to 27 December 2020
UID:25674
DTSTART:20201223T230000Z
DTEND:20201223T230000Z
LAST-MODIFIED:20191209T000000Z
LOCATION:Milan
END:VEVENT
BEGIN:VEVENT
SUMMARY:Italian Stock Exchange: closing days from 24 to 27 December 2020
UID:25674
DTSTART:20201224T230000Z
DTEND:20201224T230000Z
LAST-MODIFIED:20191209T000000Z
LOCATION:Milan
END:VEVENT
BEGIN:VEVENT
SUMMARY:Italian Stock Exchange: closing days from 24 to 27 December 2020
UID:25674
DTSTART:20201225T230000Z
DTEND:20201225T230000Z
LAST-MODIFIED:20191209T000000Z
LOCATION:Milan
END:VEVENT
BEGIN:VEVENT
SUMMARY:Italian Stock Exchange: closing days from 24 to 27 December 2020
UID:25674
DTSTART:20201226T230000Z
DTEND:20201226T230000Z
LAST-MODIFIED:20191209T000000Z
LOCATION:Milan
END:VEVENT
END:VCALENDAR