BEGIN:VCALENDAR
METHOD:PUBLISH
VERSION:2.0
PRODID:-//IGD//IGD//IT
BEGIN:VEVENT
SUMMARY:Italian Stock Exchange: closing day 1 May 2020
UID:25670
DTSTART:20200430T220000Z
DTEND:20200430T220000Z
LAST-MODIFIED:20191209T000000Z
LOCATION:Milan
END:VEVENT
END:VCALENDAR