BEGIN:VCALENDAR
METHOD:PUBLISH
VERSION:2.0
PRODID:-//IGD//IGD//IT
BEGIN:VEVENT
SUMMARY:Italian Stock Exchange: closing days from 10 to 13 April 2020
UID:25666
DTSTART:20200409T220000Z
DTEND:20200409T220000Z
LAST-MODIFIED:20191209T000000Z
LOCATION:Milan
END:VEVENT
BEGIN:VEVENT
SUMMARY:Italian Stock Exchange: closing days from 10 to 13 April 2020
UID:25666
DTSTART:20200410T220000Z
DTEND:20200410T220000Z
LAST-MODIFIED:20191209T000000Z
LOCATION:Milan
END:VEVENT
BEGIN:VEVENT
SUMMARY:Italian Stock Exchange: closing days from 10 to 13 April 2020
UID:25666
DTSTART:20200411T220000Z
DTEND:20200411T220000Z
LAST-MODIFIED:20191209T000000Z
LOCATION:Milan
END:VEVENT
BEGIN:VEVENT
SUMMARY:Italian Stock Exchange: closing days from 10 to 13 April 2020
UID:25666
DTSTART:20200412T220000Z
DTEND:20200412T220000Z
LAST-MODIFIED:20191209T000000Z
LOCATION:Milan
END:VEVENT
END:VCALENDAR