BEGIN:VCALENDAR
METHOD:PUBLISH
VERSION:2.0
PRODID:-//IGD//IGD//IT
BEGIN:VEVENT
SUMMARY:Mid &#038; Small in Milan Conference 2019
UID:24951
DTSTART:20191118T230000Z
DTEND:20191118T230000Z
LAST-MODIFIED:20191107T000000Z
LOCATION:Milan
END:VEVENT
END:VCALENDAR