BEGIN:VCALENDAR
METHOD:PUBLISH
VERSION:2.0
PRODID:-//IGD//IGD//IT
BEGIN:VEVENT
SUMMARY:Extraordinary Shareholders&#8217; Meeting 11 November 2019 (first call)
UID:24744
DTSTART:20191111T090000Z
DTEND:20191111T090000Z
LAST-MODIFIED:20191111T000000Z
LOCATION:Bologna
END:VEVENT
END:VCALENDAR