BEGIN:VCALENDAR
METHOD:PUBLISH
VERSION:2.0
PRODID:-//IGD//IGD//IT
BEGIN:VEVENT
SUMMARY:ISMO – Italian Stock Market Opportunities 2019
UID:24077
DTSTART:20191001T220000Z
DTEND:20191001T220000Z
LAST-MODIFIED:20190909T000000Z
LOCATION:Milan
END:VEVENT
END:VCALENDAR