BEGIN:VCALENDAR
METHOD:PUBLISH
VERSION:2.0
PRODID:-//IGD//IGD//IT
BEGIN:VEVENT
SUMMARY:Race for the cure Bologna
UID:24065
DTSTART:20190922T080000Z
DTEND:20190922T080000Z
LAST-MODIFIED:20190906T000000Z
LOCATION:Bologna
END:VEVENT
END:VCALENDAR