BEGIN:VCALENDAR
METHOD:PUBLISH
VERSION:2.0
PRODID:-//IGD//IGD//IT
BEGIN:VEVENT
SUMMARY:2019 Fixed Income Real Estate Conference
UID:22628
DTSTART:20190925T220000Z
DTEND:20190925T220000Z
LAST-MODIFIED:20190718T000000Z
LOCATION:London
END:VEVENT
END:VCALENDAR