BEGIN:VCALENDAR
METHOD:PUBLISH
VERSION:2.0
PRODID:-//IGD//IGD//IT
BEGIN:VEVENT
SUMMARY:2019 Pan European Real Estate Conference
UID:22617
DTSTART:20190919T220000Z
DTEND:20190919T220000Z
LAST-MODIFIED:20190718T000000Z
LOCATION:London
END:VEVENT
END:VCALENDAR